BEGIN:VCALENDAR
VERSION:2.0
PRODID:-//wp-events-plugin.com//7.2.3.1//EN
TZID:Europe/Berlin
X-WR-TIMEZONE:Europe/Berlin
BEGIN:VEVENT
UID:56@hahn-felix.de
DTSTART;TZID=Europe/Berlin:20261115T153000
DTEND;TZID=Europe/Berlin:20261115T173000
DTSTAMP:20260122T092221Z
URL:https://hahn-felix.de/veranstaltungen/jahreskonzert-des-muenchner-mand
 olinenzirkels/
SUMMARY:Jahreskonzert des Münchner Mandolinenzirkels
DESCRIPTION:Wie jedes Jahr gibt der Münchner Mandolinenzirkel sein großes
  Jahresabschlusskonzert.\n\nDetails zum Programm folgen.\n\nDer Veranstalt
 ungsort wird noch bekannt gegeben.
ATTACH;FMTTYPE=image/jpeg:https://hahn-felix.de/wp-content/uploads/2025/08
 /20250828_003038-scaled.jpg
CATEGORIES:Münchner Mandolinenzirkel
END:VEVENT
BEGIN:VTIMEZONE
TZID:Europe/Berlin
X-LIC-LOCATION:Europe/Berlin
BEGIN:STANDARD
DTSTART:20261025T020000
TZOFFSETFROM:+0200
TZOFFSETTO:+0100
TZNAME:CET
END:STANDARD
END:VTIMEZONE
END:VCALENDAR