BEGIN:VCALENDAR
VERSION:2.0
PRODID:-//wp-events-plugin.com//7.2.3.1//EN
TZID:Europe/Berlin
X-WR-TIMEZONE:Europe/Berlin
BEGIN:VEVENT
UID:55@hahn-felix.de
DTSTART;TZID=Europe/Berlin:20260425T193000
DTEND;TZID=Europe/Berlin:20260425T210000
DTSTAMP:20260320T213606Z
URL:https://hahn-felix.de/veranstaltungen/konzert-des-muenchner-mandolinen
 zirkels-2/
SUMMARY:Benefizkonzert mit dem Münchner Mandolinenzirkel
DESCRIPTION:Konzert mit dem Münchner Mandolinenzirkel (Leitung: Felix Hahn
 ) und BelCanto.\n\nGastauftritt des Chores La Cantara.\n\nLink zum Plakat 
 mit allen Infos: www.foerderverein-rottmoos.de/2026/02/09/benefitzkonzert-
 samstag-den-25-april-2026/\n\nInfos auf der Seite von BelCanto: www.belcan
 tomusik.com/termine/\n\nInfos auf der Seite des Mandolinenzirkels: muenchn
 ermandolinenzirkel.de/mmz_home.html\n\n&nbsp\;\n\n&nbsp\;
ATTACH;FMTTYPE=image/jpeg:https://hahn-felix.de/wp-content/uploads/2025/08
 /20250828_003038-scaled.jpg
CATEGORIES:Münchner Mandolinenzirkel
LOCATION:Historischer Rathaussaal Wasserburg am Inn\, Marienplatz 2\, Wasse
 rburg am Inn\, Bayern\, 83512\, Deutschland
X-APPLE-STRUCTURED-LOCATION;VALUE=URI;X-ADDRESS=Marienplatz 2\, Wasserburg 
 am Inn\, Bayern\, 83512\, Deutschland;X-APPLE-RADIUS=100;X-TITLE=Historisc
 her Rathaussaal Wasserburg am Inn:geo:0,0
END:VEVENT
BEGIN:VTIMEZONE
TZID:Europe/Berlin
X-LIC-LOCATION:Europe/Berlin
BEGIN:DAYLIGHT
DTSTART:20260329T030000
TZOFFSETFROM:+0100
TZOFFSETTO:+0200
TZNAME:CEST
END:DAYLIGHT
END:VTIMEZONE
END:VCALENDAR