BEGIN:VCALENDAR
VERSION:2.0
PRODID:-//wp-events-plugin.com//7.2.3.1//EN
TZID:Europe/Berlin
X-WR-TIMEZONE:Europe/Berlin
BEGIN:VEVENT
UID:18@hahn-felix.de
DTSTART;TZID=Europe/Berlin:20230809T190000
DTEND;TZID=Europe/Berlin:20230809T203000
DTSTAMP:20230726T213912Z
URL:https://hahn-felix.de/veranstaltungen/malerei-musik-und-meditation/
SUMMARY:Malerei\, Musik und Meditation
DESCRIPTION:
ATTACH;FMTTYPE=image/jpeg:https://hahn-felix.de/wp-content/uploads/2023/07
 /IMG_20230726_224328_772.jpg
LOCATION:Atelier Paolo de Brito\, Bahnhofstraße 1-3\, Starnberg\, Bayern\,
  82319\, Deutschland
X-APPLE-STRUCTURED-LOCATION;VALUE=URI;X-ADDRESS=Bahnhofstraße 1-3\, Starnb
 erg\, Bayern\, 82319\, Deutschland;X-APPLE-RADIUS=100;X-TITLE=Atelier Paol
 o de Brito:geo:0,0
END:VEVENT
BEGIN:VTIMEZONE
TZID:Europe/Berlin
X-LIC-LOCATION:Europe/Berlin
BEGIN:DAYLIGHT
DTSTART:20230326T030000
TZOFFSETFROM:+0100
TZOFFSETTO:+0200
TZNAME:CEST
END:DAYLIGHT
END:VTIMEZONE
END:VCALENDAR